BEGIN:VCALENDAR
VERSION:2.0
PRODID:http://pfarrei-rothenkirchen.de
BEGIN:VEVENT
UID:b3b8f445-3e29-11f1-a8bf-0242ac11002b-1779264000000-de
DTSTAMP:20260422T090025Z
DTSTART:20260520T080000Z
DTEND:20260520T090000Z
SUMMARY;LANGUAGE=de:Eucharistiefeier
END:VEVENT
END:VCALENDAR
