BEGIN:VCALENDAR
VERSION:2.0
PRODID:http://pfarrei-rothenkirchen.de
BEGIN:VEVENT
UID:b49710ce-3972-11f1-a8bf-0242ac11002b-1778745600000-de
DTSTAMP:20260416T090024Z
DTSTART:20260514T080000Z
DTEND:20260514T090000Z
SUMMARY;LANGUAGE=de:Wortgottesfeier
END:VEVENT
END:VCALENDAR
