BEGIN:VCALENDAR
VERSION:2.0
PRODID:http://pfarrei-rothenkirchen.de
BEGIN:VEVENT
UID:b66a9874-3972-11f1-a8bf-0242ac11002b-1778747400000-de
DTSTAMP:20260416T090027Z
DTSTART:20260514T083000Z
DTEND:20260514T093000Z
SUMMARY;LANGUAGE=de:Eucharistiefeier
DESCRIPTION;LANGUAGE=de:Christi Himmelfahrt mit Bittgang zum Fischerskeller. Anschließend Imbiss
END:VEVENT
END:VCALENDAR
