BEGIN:VCALENDAR
VERSION:2.0
PRODID:http://pfarrei-rothenkirchen.de
BEGIN:VEVENT
UID:b723f5c4-36ba-11f1-a8bf-0242ac11002b-1778302800000-de
DTSTAMP:20260412T215818Z
DTSTART:20260509T050000Z
DTEND:20260509T180000Z
SUMMARY;LANGUAGE=de:Wallfahrt nach Marienweiher
END:VEVENT
END:VCALENDAR
