BEGIN:VCALENDAR
VERSION:2.0
PRODID:http://pfarrei-rothenkirchen.de
BEGIN:VEVENT
UID:b92e6eb4-2b4d-11f1-a15b-0242ac11002b-1777192200000-de
DTSTAMP:20260329T090024Z
DTSTART:20260426T083000Z
DTEND:20260426T093000Z
SUMMARY;LANGUAGE=de:Festgottesdienst zur Erstkommunion
END:VEVENT
END:VCALENDAR
