BEGIN:VCALENDAR
VERSION:2.0
PRODID:http://pfarrei-rothenkirchen.de
BEGIN:VEVENT
UID:ba6be274-29c3-11f1-a15b-0242ac11002b-1777046400000-de
DTSTAMP:20260327T100004Z
DTSTART:20260424T160000Z
DTEND:20260424T163000Z
SUMMARY;LANGUAGE=de:Meditation am Freitag
END:VEVENT
END:VCALENDAR
