BEGIN:VCALENDAR
VERSION:2.0
PRODID:http://pfarrei-rothenkirchen.de
BEGIN:VEVENT
UID:baf10296-36ba-11f1-a8bf-0242ac11002b-1777813200000-de
DTSTAMP:20260412T215825Z
DTSTART:20260503T130000Z
DTEND:20260503T140000Z
SUMMARY;LANGUAGE=de:Kinderkirche Maiandacht
DESCRIPTION;LANGUAGE=de:Bei der Mutter Gottes am Rollenberg
END:VEVENT
END:VCALENDAR
