BEGIN:VCALENDAR
VERSION:2.0
PRODID:http://pfarrei-rothenkirchen.de
BEGIN:VEVENT
UID:bb65c08c-2b4d-11f1-a15b-0242ac11002b-1777208400000-de
DTSTAMP:20260329T090028Z
DTSTART:20260426T130000Z
DTEND:20260426T140000Z
SUMMARY;LANGUAGE=de:Motorradgottesdienst
DESCRIPTION;LANGUAGE=de:an der Gemeinschaftshalle
END:VEVENT
END:VCALENDAR
