BEGIN:VCALENDAR
VERSION:2.0
PRODID:http://pfarrei-rothenkirchen.de
BEGIN:VEVENT
UID:bba5184b-3972-11f1-a8bf-0242ac11002b-1777028431441-de
DTSTAMP:20260416T090036Z
DTSTART:20260424T110031Z
SUMMARY;LANGUAGE=de:Dekanatswallfahrt nach Glosberg
END:VEVENT
END:VCALENDAR
