BEGIN:VCALENDAR
VERSION:2.0
PRODID:http://pfarrei-rothenkirchen.de
BEGIN:VEVENT
UID:bbff6d5a-3972-11f1-a8bf-0242ac11002b-1778739300000-de
DTSTAMP:20260416T090036Z
DTSTART:20260514T061500Z
DTEND:20260514T070000Z
SUMMARY;LANGUAGE=de:Bittgang nach Pressig
END:VEVENT
END:VCALENDAR
