BEGIN:VCALENDAR
VERSION:2.0
PRODID:http://pfarrei-rothenkirchen.de
BEGIN:VEVENT
UID:bcfc664b-2b4d-11f1-a15b-0242ac11002b-1777185000000-de
DTSTAMP:20260329T090030Z
DTSTART:20260426T063000Z
DTEND:20260426T073000Z
SUMMARY;LANGUAGE=de:Wortgottesfeier
END:VEVENT
END:VCALENDAR
