BEGIN:VCALENDAR
VERSION:2.0
PRODID:http://pfarrei-rothenkirchen.de
BEGIN:VEVENT
UID:bfb53051-29c3-11f1-a15b-0242ac11002b-1777014000000-de
DTSTAMP:20260327T100013Z
DTSTART:20260424T070000Z
DTEND:20260424T080000Z
SUMMARY;LANGUAGE=de:Eucharistiefeier
END:VEVENT
END:VCALENDAR
