BEGIN:VCALENDAR
VERSION:2.0
PRODID:http://pfarrei-rothenkirchen.de
BEGIN:VEVENT
UID:c0310194-36ba-11f1-a8bf-0242ac11002b-1777215600000-de
DTSTAMP:20260412T215834Z
DTSTART:20260426T150000Z
DTEND:20260426T160000Z
SUMMARY;LANGUAGE=de:Ewige Anbetung - Betstunde
END:VEVENT
END:VCALENDAR
