BEGIN:VCALENDAR
VERSION:2.0
PRODID:http://pfarrei-rothenkirchen.de
BEGIN:VEVENT
UID:c386bc98-36ba-11f1-a8bf-0242ac11002b-1778085000000-de
DTSTAMP:20260412T215839Z
DTSTART:20260506T163000Z
DTEND:20260506T173000Z
SUMMARY;LANGUAGE=de:Maiandacht in der Marienkapelle
END:VEVENT
END:VCALENDAR
