BEGIN:VCALENDAR
VERSION:2.0
PRODID:http://pfarrei-rothenkirchen.de
BEGIN:VEVENT
UID:c3b2fcbb-36ba-11f1-a8bf-0242ac11002b-1778227200000-de
DTSTAMP:20260412T215840Z
DTSTART:20260508T080000Z
DTEND:20260508T090000Z
SUMMARY;LANGUAGE=de:Wort-Gottes-Feier
END:VEVENT
END:VCALENDAR
