BEGIN:VCALENDAR
VERSION:2.0
PRODID:http://pfarrei-rothenkirchen.de
BEGIN:VEVENT
UID:c4dd8823-29c3-11f1-a15b-0242ac11002b-1777051800000-de
DTSTAMP:20260327T100022Z
DTSTART:20260424T173000Z
DTEND:20260424T183000Z
SUMMARY;LANGUAGE=de:Spätschicht in der Annakapelle
END:VEVENT
END:VCALENDAR
