BEGIN:VCALENDAR
VERSION:2.0
PRODID:http://pfarrei-rothenkirchen.de
BEGIN:VEVENT
UID:c58b8d66-36ba-11f1-a8bf-0242ac11002b-1778068800000-de
DTSTAMP:20260412T215843Z
DTSTART:20260506T120000Z
DTEND:20260506T160000Z
SUMMARY;LANGUAGE=de:Cafétreff für Jung und Alt im Pfarrsaal - Muttertagsfeier
END:VEVENT
END:VCALENDAR
