BEGIN:VCALENDAR
VERSION:2.0
PRODID:http://pfarrei-rothenkirchen.de
BEGIN:VEVENT
UID:c73cbf03-36ba-11f1-a8bf-0242ac11002b-1778344200000-de
DTSTAMP:20260412T215845Z
DTSTART:20260509T163000Z
DTEND:20260509T173000Z
SUMMARY;LANGUAGE=de:Hl. Messe mit Vorstellung der neuen Mitglieder des Pfarrgemeinderates und Verabschiedung der ausscheidenden Mitglieder
DESCRIPTION;LANGUAGE=de:*für alle Lebenden und Verstorbenen unserer Pfarrgemeinden
END:VEVENT
END:VCALENDAR
