BEGIN:VCALENDAR
VERSION:2.0
PRODID:http://pfarrei-rothenkirchen.de
BEGIN:VEVENT
UID:c7e65aec-29c3-11f1-a15b-0242ac11002b-1777044600000-de
DTSTAMP:20260327T100027Z
DTSTART:20260424T153000Z
DTEND:20260424T163000Z
SUMMARY;LANGUAGE=de:Eucharistiefeier
DESCRIPTION;LANGUAGE=de:zum Florianstag mit der FFW Breitengüßbach
END:VEVENT
END:VCALENDAR
