BEGIN:VCALENDAR
VERSION:2.0
PRODID:http://pfarrei-rothenkirchen.de
BEGIN:VEVENT
UID:d05d7710-3ef2-11f1-a8bf-0242ac11002b-1779386400000-de
DTSTAMP:20260423T090002Z
DTSTART:20260521T180000Z
DTEND:20260521T190000Z
SUMMARY;LANGUAGE=de:„Nachteulentreff“ / Friedensgebet
END:VEVENT
END:VCALENDAR
