BEGIN:VCALENDAR
VERSION:2.0
PRODID:http://pfarrei-rothenkirchen.de
BEGIN:VEVENT
UID:d0801a43-3ef2-11f1-a8bf-0242ac11002b-1779346800000-de
DTSTAMP:20260423T090002Z
DTSTART:20260521T070000Z
DTEND:20260521T080000Z
SUMMARY;LANGUAGE=de:Eucharistiefeier
END:VEVENT
END:VCALENDAR
