BEGIN:VCALENDAR
VERSION:2.0
PRODID:http://pfarrei-rothenkirchen.de
BEGIN:VEVENT
UID:d08f5c86-3ef2-11f1-a8bf-0242ac11002b-1779382800000-de
DTSTAMP:20260423T090002Z
DTSTART:20260521T170000Z
DTEND:20260521T180000Z
SUMMARY;LANGUAGE=de:Maiandacht der Kolpingsfamilie Bamberg
END:VEVENT
END:VCALENDAR
