BEGIN:VCALENDAR
VERSION:2.0
PRODID:http://pfarrei-rothenkirchen.de
BEGIN:VEVENT
UID:d0b274ed-3ef2-11f1-a8bf-0242ac11002b-1779343200000-de
DTSTAMP:20260423T090002Z
DTSTART:20260521T060000Z
DTEND:20260521T070000Z
SUMMARY;LANGUAGE=de:Eucharistiefeier (Domkapitel)
END:VEVENT
END:VCALENDAR
