BEGIN:VCALENDAR
VERSION:2.0
PRODID:http://pfarrei-rothenkirchen.de
BEGIN:VEVENT
UID:d1ec7ba6-3ef2-11f1-a8bf-0242ac11002b-1779346800000-de
DTSTAMP:20260423T090005Z
DTSTART:20260521T070000Z
DTEND:20260521T080000Z
SUMMARY;LANGUAGE=de:Kirche, Kaffee, Kommunikation:
DESCRIPTION;LANGUAGE=de:Gottesdienst\, Frühstück und mehr als Wort-Gottes-Feier
END:VEVENT
END:VCALENDAR
