BEGIN:VCALENDAR
VERSION:2.0
PRODID:http://pfarrei-rothenkirchen.de
BEGIN:VEVENT
UID:d24019f6-3ef2-11f1-a8bf-0242ac11002b-1779350400000-de
DTSTAMP:20260423T090005Z
DTSTART:20260521T080000Z
DTEND:20260521T090000Z
SUMMARY;LANGUAGE=de:Eucharistiefeier
END:VEVENT
END:VCALENDAR
