BEGIN:VCALENDAR
VERSION:2.0
PRODID:http://pfarrei-rothenkirchen.de
BEGIN:VEVENT
UID:d3c37733-3a3b-11f1-a8bf-0242ac11002b-1778860800000-de
DTSTAMP:20260417T090005Z
DTSTART:20260515T160000Z
DTEND:20260515T170000Z
SUMMARY;LANGUAGE=de:Eucharistiefeier
DESCRIPTION;LANGUAGE=de:im Gemeindesaal Buckenhof
END:VEVENT
END:VCALENDAR
