BEGIN:VCALENDAR
VERSION:2.0
PRODID:http://pfarrei-rothenkirchen.de
BEGIN:VEVENT
UID:d5d067fa-30cd-11f1-a8bf-0242ac11002b-1777786200000-de
DTSTAMP:20260405T090003Z
DTSTART:20260503T053000Z
DTEND:20260503T063000Z
SUMMARY;LANGUAGE=de:Eucharistiefeier
END:VEVENT
END:VCALENDAR
