BEGIN:VCALENDAR
VERSION:2.0
PRODID:http://pfarrei-rothenkirchen.de
BEGIN:VEVENT
UID:d6600263-3ef2-11f1-a8bf-0242ac11002b-1779379200000-de
DTSTAMP:20260423T090012Z
DTSTART:20260521T160000Z
DTEND:20260521T170000Z
SUMMARY;LANGUAGE=de:Eucharistiefeier
END:VEVENT
END:VCALENDAR
