BEGIN:VCALENDAR
VERSION:2.0
PRODID:http://pfarrei-rothenkirchen.de
BEGIN:VEVENT
UID:d6834b83-3584-11f1-a8bf-0242ac11002b-1778328000000-de
DTSTAMP:20260411T090007Z
DTSTART:20260509T120000Z
DTEND:20260509T160000Z
SUMMARY;LANGUAGE=de:ökumenischer Kinderbibeltag
DESCRIPTION;LANGUAGE=de:"Leben wie zu Jesu Zeiten"
END:VEVENT
END:VCALENDAR
