BEGIN:VCALENDAR
VERSION:2.0
PRODID:http://pfarrei-rothenkirchen.de
BEGIN:VEVENT
UID:d964f639-3a3b-11f1-a8bf-0242ac11002b-1778844600000-de
DTSTAMP:20260417T090014Z
DTSTART:20260515T113000Z
DTEND:20260515T120000Z
SUMMARY;LANGUAGE=de:Trauerfeier mit Urnenbeisetzung
DESCRIPTION;LANGUAGE=de:+Werner Zenk
END:VEVENT
END:VCALENDAR
