BEGIN:VCALENDAR
VERSION:2.0
PRODID:http://pfarrei-rothenkirchen.de
BEGIN:VEVENT
UID:dae26a42-2c16-11f1-a15b-0242ac11002b-1777300200000-de
DTSTAMP:20260330T090009Z
DTSTART:20260427T143000Z
DTEND:20260427T153000Z
SUMMARY;LANGUAGE=de:Eucharistiefeier
END:VEVENT
END:VCALENDAR
