BEGIN:VCALENDAR
VERSION:2.0
PRODID:http://pfarrei-rothenkirchen.de
BEGIN:VEVENT
UID:dc397dc2-30cd-11f1-a8bf-0242ac11002b-1777793400000-de
DTSTAMP:20260405T090014Z
DTSTART:20260503T073000Z
DTEND:20260503T083000Z
SUMMARY;LANGUAGE=de:Eucharistiefeier
END:VEVENT
END:VCALENDAR
