BEGIN:VCALENDAR
VERSION:2.0
PRODID:http://pfarrei-rothenkirchen.de
BEGIN:VEVENT
UID:dd7f481c-3ef2-11f1-a8bf-0242ac11002b-1779379200000-de
DTSTAMP:20260423T090024Z
DTSTART:20260521T160000Z
DTEND:20260521T163000Z
SUMMARY;LANGUAGE=de:Rosenkranz / Hl. Stunde
END:VEVENT
END:VCALENDAR
