BEGIN:VCALENDAR
VERSION:2.0
PRODID:http://pfarrei-rothenkirchen.de
BEGIN:VEVENT
UID:de2f99b5-2c16-11f1-a15b-0242ac11002b-1777266000000-de
DTSTAMP:20260330T090015Z
DTSTART:20260427T050000Z
DTEND:20260427T060000Z
SUMMARY;LANGUAGE=de:Eucharistiefeier
END:VEVENT
END:VCALENDAR
