BEGIN:VCALENDAR
VERSION:2.0
PRODID:http://pfarrei-rothenkirchen.de
BEGIN:VEVENT
UID:de60a2c9-30cd-11f1-a8bf-0242ac11002b-1777797000000-de
DTSTAMP:20260405T090018Z
DTSTART:20260503T083000Z
DTEND:20260503T093000Z
SUMMARY;LANGUAGE=de:Wortgottesfeier
END:VEVENT
END:VCALENDAR
