BEGIN:VCALENDAR
VERSION:2.0
PRODID:http://pfarrei-rothenkirchen.de
BEGIN:VEVENT
UID:dee1b020-3a3b-11f1-a8bf-0242ac11002b-1778864400000-de
DTSTAMP:20260417T090024Z
DTSTART:20260515T170000Z
DTEND:20260515T180000Z
SUMMARY;LANGUAGE=de:Wort-Gottes-Feier
DESCRIPTION;LANGUAGE=de:Kiliani-Klinik
END:VEVENT
END:VCALENDAR
