BEGIN:VCALENDAR
VERSION:2.0
PRODID:http://pfarrei-rothenkirchen.de
BEGIN:VEVENT
UID:dfb62ffa-3584-11f1-a8bf-0242ac11002b-1778338800000-de
DTSTAMP:20260411T090023Z
DTSTART:20260509T150000Z
DTEND:20260509T160000Z
SUMMARY;LANGUAGE=de:Floriansgottesdienst mit der FFW
END:VEVENT
END:VCALENDAR
