BEGIN:VCALENDAR
VERSION:2.0
PRODID:http://pfarrei-rothenkirchen.de
BEGIN:VEVENT
UID:dfe76079-3a3b-11f1-a8bf-0242ac11002b-1778859900000-de
DTSTAMP:20260417T090025Z
DTSTART:20260515T154500Z
DTEND:20260515T163000Z
SUMMARY;LANGUAGE=de:Hagelprozession nach Teuschnitz
END:VEVENT
END:VCALENDAR
