BEGIN:VCALENDAR
VERSION:2.0
PRODID:http://pfarrei-rothenkirchen.de
BEGIN:VEVENT
UID:e0550813-3584-11f1-a8bf-0242ac11002b-1778342400000-de
DTSTAMP:20260411T090024Z
DTSTART:20260509T160000Z
DTEND:20260509T170000Z
SUMMARY;LANGUAGE=de:Wort-Gottes-Feier
END:VEVENT
END:VCALENDAR
