BEGIN:VCALENDAR
VERSION:2.0
PRODID:http://pfarrei-rothenkirchen.de
BEGIN:VEVENT
UID:e063bc95-3a3b-11f1-a8bf-0242ac11002b-1778826600000-de
DTSTAMP:20260417T090026Z
DTSTART:20260515T063000Z
DTEND:20260515T073000Z
SUMMARY;LANGUAGE=de:Hl. Messe zum Hochfest Christi Himmelfahrt mit Fahrzeugsegnung
END:VEVENT
END:VCALENDAR
