BEGIN:VCALENDAR
VERSION:2.0
PRODID:http://pfarrei-rothenkirchen.de
BEGIN:VEVENT
UID:e090a2ab-30cd-11f1-a8bf-0242ac11002b-1777791600000-de
DTSTAMP:20260405T090021Z
DTSTART:20260503T070000Z
DTEND:20260503T080000Z
SUMMARY;LANGUAGE=de:Feierlicher Einzug und Hochamt
DESCRIPTION;LANGUAGE=de:zur Jubelkommunion
END:VEVENT
END:VCALENDAR
