BEGIN:VCALENDAR
VERSION:2.0
PRODID:http://pfarrei-rothenkirchen.de
BEGIN:VEVENT
UID:e1bc9fbe-30cd-11f1-a8bf-0242ac11002b-1777795200000-de
DTSTAMP:20260405T090023Z
DTSTART:20260503T080000Z
DTEND:20260503T090000Z
SUMMARY;LANGUAGE=de:Hl. Messe - Jubelkommunion
DESCRIPTION;LANGUAGE=de:mitgestaltet vom Kirchenchor; 9:45 Uhr Zug von der Grundschule zur Kirche
END:VEVENT
END:VCALENDAR
