BEGIN:VCALENDAR
VERSION:2.0
PRODID:http://pfarrei-rothenkirchen.de
BEGIN:VEVENT
UID:e1ca8271-30cd-11f1-a8bf-0242ac11002b-1777789800000-de
DTSTAMP:20260405T090023Z
DTSTART:20260503T063000Z
DTEND:20260503T073000Z
SUMMARY;LANGUAGE=de:Wortgottesfeier
END:VEVENT
END:VCALENDAR
