BEGIN:VCALENDAR
VERSION:2.0
PRODID:http://pfarrei-rothenkirchen.de
BEGIN:VEVENT
UID:e237c786-3ef2-11f1-a8bf-0242ac11002b-1779382800000-de
DTSTAMP:20260423T090032Z
DTSTART:20260521T170000Z
DTEND:20260521T180000Z
SUMMARY;LANGUAGE=de:Hl. Messe mit Maiandacht u. sakr. Segen
END:VEVENT
END:VCALENDAR
