BEGIN:VCALENDAR
VERSION:2.0
PRODID:http://pfarrei-rothenkirchen.de
BEGIN:VEVENT
UID:e2a88585-30cd-11f1-a8bf-0242ac11002b-1777791600000-de
DTSTAMP:20260405T090025Z
DTSTART:20260503T070000Z
DTEND:20260503T080000Z
SUMMARY;LANGUAGE=de:Eucharistiefeier
DESCRIPTION;LANGUAGE=de:Florians-Gottesdienst\, anschließend Floriansfest am Mehrzweckgebäude
END:VEVENT
END:VCALENDAR
