BEGIN:VCALENDAR
VERSION:2.0
PRODID:http://pfarrei-rothenkirchen.de
BEGIN:VEVENT
UID:e2d49e98-30cd-11f1-a8bf-0242ac11002b-1777787100000-de
DTSTAMP:20260405T090025Z
DTSTART:20260503T054500Z
DTEND:20260503T064500Z
SUMMARY;LANGUAGE=de:Eucharistiefeier
END:VEVENT
END:VCALENDAR
