BEGIN:VCALENDAR
VERSION:2.0
PRODID:http://pfarrei-rothenkirchen.de
BEGIN:VEVENT
UID:e4ea3c84-2a8c-11f1-a15b-0242ac11002b-1777125600000-de
DTSTAMP:20260328T100004Z
DTSTART:20260425T140000Z
DTEND:20260425T150000Z
SUMMARY;LANGUAGE=de:Portug. Eucharistiefeier
END:VEVENT
END:VCALENDAR
