BEGIN:VCALENDAR
VERSION:2.0
PRODID:http://pfarrei-rothenkirchen.de
BEGIN:VEVENT
UID:e6420380-2a8c-11f1-a15b-0242ac11002b-1777133700000-de
DTSTAMP:20260328T100007Z
DTSTART:20260425T161500Z
DTEND:20260425T171500Z
SUMMARY;LANGUAGE=de:Eucharistiefeier
END:VEVENT
END:VCALENDAR
