BEGIN:VCALENDAR
VERSION:2.0
PRODID:http://pfarrei-rothenkirchen.de
BEGIN:VEVENT
UID:ee61a334-2a8c-11f1-a15b-0242ac11002b-1777096800000-de
DTSTAMP:20260328T100020Z
DTSTART:20260425T060000Z
DTEND:20260425T070000Z
SUMMARY;LANGUAGE=de:Heilige Messe in der Adelgundiskapelle
DESCRIPTION;LANGUAGE=de:AUFPASSEN; WAS ANGEDRUCKT WIRD
END:VEVENT
END:VCALENDAR
