BEGIN:VCALENDAR
VERSION:2.0
PRODID:http://pfarrei-rothenkirchen.de
BEGIN:VEVENT
UID:ef5ec702-2a8c-11f1-a15b-0242ac11002b-1777132800000-de
DTSTAMP:20260328T100022Z
DTSTART:20260425T160000Z
DTEND:20260425T170000Z
SUMMARY;LANGUAGE=de:Wortgottesfeier
END:VEVENT
END:VCALENDAR
